BEGIN:VCALENDAR
VERSION:2.0
PRODID:icalendar-ruby
CALSCALE:GREGORIAN
METHOD:PUBLISH
BEGIN:VEVENT
DTSTAMP:20260425T172618Z
UID:7de545f2-adf0-4b85-992d-55e8bf20acd9
DTSTART:20240531T080000
DTEND:20240602T150000
DESCRIPTION:<p><span style="color: rgb(31\, 31\, 31)\;">Three days of whizz
 \, bang and wow! The Descent is where dust flies and mountain bikes push t
 hemselves to the limit of fun. Featuring the one-of-a-kind Descent off the
  escarpment and into the bushveld\, the Descent is where the men and women
  of mountain biking who like to ride hard can test themselves against the 
 best.</span></p>
LOCATION:Em'seni Camp R600\, Winterton
SUMMARY:Standard Bank Berg and Bush - The Descent 2024
URL;VALUE=URI:https://bergandbush.howler.co.za/bergandbushdescent
END:VEVENT
END:VCALENDAR
